BEGIN:VCALENDAR
VERSION:2.0
PRODID:-//hacksw/handcal//NONSGML v1.0//EN
BEGIN:VEVENT
DTSTART:20260604T073000Z
DTEND:20260606T133000Z
LOCATION:Paris School of Economics \n48, Boulevard Jourdan \n75014 PARIS
ORGANIZER;CN=Cécile Girbal:MAILTO:cecile.girbal@psemail.eu
SUMMARY:World Inequality Conference 2026
DESCRIPTION:The World Inequality Lab is organizing the third edition of the World Inequality Conference, to be held at the Paris School of Economics on June 4-6, 2026.\nObjectivesThe conference will be structured...
URL:https://www.pse-alumni.org/en/event/world-inequality-conference-2026/2026/06/04/25
BEGIN:VALARM
TRIGGER:-P0DT1H0M0S
ACTION:DISPLAY
END:VALARM
END:VEVENT
END:VCALENDAR